{"text_format":"3","workbook":"xlsx","n_sheets":5,"sheets":["Suma","Część 1","Część 2","Część 3","Arkusz1"],"not_rendered":{"defined_names":6},"read":"whole","date_system":"1900"}

{"sheet":"Suma","index":0,"n_rows":6,"n_cols":3,"rows_kept":6,"merged":[[1,0,2,0],[1,1,2,1],[1,2,2,2]]}
[null,null,"Załącznik 1A do SWZ"]
["odwołanie","Pakiet","Nazwa"]
[]
[{"$f":"HYPERLINK(\"#'Część 1'!A1\",\"przejdz do\")","v":"przejdz do"},{"$f":"'Część 1'!$A$4","v":"Część 1"},{"$f":"'Część 1'!$A$5","v":"Świadczenie usług pocztowych"}]
[{"$f":"HYPERLINK(\"#'Część 2'!A1\",\"przejdz do\")","v":"przejdz do"},{"$f":"'Część 2'!$A$4","v":"Część 2"},{"$f":"'Część 2'!$A$5","v":"Świadczenie usług kurierskich"}]
[{"$f":"HYPERLINK(\"#'Część 3'!A1\",\"przejdz do\")","v":"przejdz do"},{"$f":"'Część 3'!$A$4","v":"Część 3"},{"$f":"'Część 3'!$A$5","v":"Świadczenie usług kurierskich w suchym lodzie"}]

{"sheet":"Część 1","index":1,"n_rows":43,"n_cols":6,"rows_kept":43,"merged":[[0,4,0,5],[2,0,2,5],[3,0,3,5],[4,0,4,5],[6,0,7,0],[6,1,7,1],[6,2,7,2],[6,3,7,3],[6,4,7,4],[6,5,7,5],[8,0,10,0],[11,0,13,0],[14,0,16,0],[17,0,19,0],[20,0,23,0],[20,2,21,2],[20,3,21,3],[20,4,21,4],[20,5,21,5],[24,0,27,0],[24,2,25,2],[24,3,25,3],[24,4,25,4],[24,5,25,5],[28,0,33,0],[34,0,36,0],[34,1,36,1],[37,1,37,2],[38,1,38,2],[39,1,39,2],[40,0,41,0],[40,1,41,2],[40,3,41,3],[40,4,41,4],[40,5,41,5],[42,0,42,4]]}
[null,"AGZ.272.12.2024",null,null,"Załącznik 1A do SWZ"]
[]
["KALKULACJA CENY OFERTY"]
["Część 1"]
["Świadczenie usług pocztowych"]
[{"$f":"HYPERLINK(\"#'Suma'!A1\",\"wstecz\")","v":"wstecz"}]
["Lp.","Rodzaj przesyłki","Waga przesyłki","Prognozowana ilość przesyłek w trakcie realizacji umowy (szt.)","Cena jednostkowa brutto (zł)","Wartość brutto (zł) - iloczyn ceny jednostkowej brutto \ni ilości przesyłek"]
[]
[1,"Przesyłki listowe nierejestrowane","S do 500 g",{"v":2200,"d":"2,200"},null,{"$f":"D9*E9","v":{"v":0,"d":"0.00"}}]
[null,"krajowe","M do 1000 g",20,null,{"$f":"D10*E10","v":{"v":0,"d":"0.00"}}]
[null,"ZWYKŁE EKONOMICZNE","L do 2000 g",10,null,{"v":0,"d":"0.00"}]
[2,"Przesyłki listowe nierejestrowane","S do 500 g",20,null,{"v":0,"d":"0.00"}]
[null,"krajowe","M do 1000 g",20,null,{"v":0,"d":"0.00"}]
[null,"ZWYKŁE PRIORYTETOWE","L do 2000 g",10,null,{"v":0,"d":"0.00"}]
[3,"Przesyłki listowe rejestrowane","S do 500 g",{"v":3300,"d":"3,300"},null,{"v":0,"d":"0.00"}]
[null,"krajowe","M do 1000 g",200,null,{"v":0,"d":"0.00"}]
[null,"POLECONE EKONOMICZNE","L do 2000 g",20,null,{"v":0,"d":"0.00"}]
[4,"Przesyłki listowe rejestrowane","S do 500 g",20,null,{"v":0,"d":"0.00"}]
[null,"krajowe","M do 1000 g",100,null,{"v":0,"d":"0.00"}]
[null,"POLECONE PRIORYTETOWE","L do 2000 g",10,null,{"v":0,"d":"0.00"}]
[5,"Przesyłki listowe rejestrowane","S do 500 g",{"v":15000,"d":"15,000"},null,{"$f":"D21*E21","v":{"v":0,"d":"0.00"}}]
[null,"ze zwrotnym potwierdzeniem odbioru"]
[null,"krajowe","M do 1000 g",{"v":1600,"d":"1,600"},null,{"$f":"D23*E23","v":{"v":0,"d":"0.00"}}]
[null,"POLECONE ZPO EKONOMICZNE","L do 2000 g",400,null,{"$f":"D24*E24","v":{"v":0,"d":"0.00"}}]
[6,"Przesyłki listowe rejestrowane","S do 500 g",10,null,{"$f":"D25*E25","v":{"v":0,"d":"0.00"}}]
[null,"ze zwrotnym potwierdzeniem odbioru"]
[null,"krajowe","M do 1000 g",6,null,{"$f":"D27*E27","v":{"v":0,"d":"0.00"}}]
[null,"POLECONE ZPO PRIORYTETOWE","L do 2000 g",6,null,{"v":0,"d":"0.00"}]
[7,"Przesyłki rejestrowane zagraniczne","do 50 g",2,null,{"v":0,"d":"0.00"}]
[null," Europa","ponad 50 g do 100 g",2,null,{"v":0,"d":"0.00"}]
[null,"POLECONE PRIORYTETOWE","ponad 100 g do 350 g",2,null,{"v":0,"d":"0.00"}]
[null,null,"ponad 350 g do 500 g",2,null,{"v":0,"d":"0.00"}]
[null,null,"ponad 500 g do 1000 g",2,null,{"v":0,"d":"0.00"}]
[null,null,"ponad 1000 g do 2000 g",2,null,{"v":0,"d":"0.00"}]
[8,"Zwrot przesyłki rejestrowanej w obrocie krajowym","S do 500 g",700,null,{"v":0,"d":"0.00"}]
[null,null,"M do 1000 g",10,null,{"v":0,"d":"0.00"}]
[null,null,"L do 2000 g",10,null,{"v":0,"d":"0.00"}]
[9,"Paczki ekonomiczne gabaryt A i B",null,4,null,{"v":0,"d":"0.00"}]
[10,"Paczki priorytetowe gabaryty A i B ",null,4,null,{"v":0,"d":"0.00"}]
[11,"Potwierdzenie odbioru w obrocie zagranicznym",null,12,null,{"v":0,"d":"0.00"}]
[12,"Opłata za miesiąc odbioru przesyłek z siedziby firmy",null,24,null,{"$f":"D41*E41","v":{"v":0,"d":"0.00"}}]
[]
["Cena oferty (brutto):",{"$nulls":4},{"$f":"SUM(F9:F42)","v":{"v":0,"d":"0.00"}}]

{"sheet":"Część 2","index":2,"n_rows":15,"n_cols":6,"rows_kept":15,"merged":[[0,4,0,5],[2,0,2,5],[3,0,3,5],[4,0,4,5],[6,0,7,0],[6,1,7,1],[6,2,7,2],[6,3,7,3],[6,4,7,4],[6,5,7,5],[14,0,14,4]]}
[null,"AGZ.272.12.2024",null,null,"Załącznik 1A do SWZ"]
[]
["KALKULACJA CENY OFERTY"]
["Część 2"]
["Świadczenie usług kurierskich"]
[{"$f":"HYPERLINK(\"#'Suma'!A1\",\"wstecz\")","v":"wstecz"}]
["Lp.","Rodzaj przesyłki","Waga przesyłki","Prognozowana ilość przesyłek w trakcie realizacji umowy (szt.)","Cena jednostkowa brutto (zł)","Wartość brutto (zł) - iloczyn ceny jednostkowej brutto \ni ilości przesyłek"]
[]
[1,"Przesyłki nadawane w standardzie","od 0,5 kg do 30 kg",420,null,{"$f":"D9*E9","v":{"v":0,"d":"0.00"}}]
[2,"Przesyłki nadawane Expres \ndo godz. 10:00 następnego dnia","od 1 kg do 30 kg ",10,null,{"$f":"D10*E10","v":{"v":0,"d":"0.00"}}]
[3,"Przesyłki nadawane Expres \ndo godz. 12:00 następnego dnia","od 1 kg do 30 kg ",60,null,{"v":0,"d":"0.00"}]
[4,"Przesyłki nadawane Expres \ndo godz. 15:00 następnego dnia","od 1 kg do 30 kg ",10,null,{"$f":"D12*E12","v":{"v":0,"d":"0.00"}}]
[5,"Przesyłki paletowe standard \no wymiarach 120 x 80 x 10","-",4,null,{"$f":"D13*E13","v":{"v":0,"d":"0.00"}}]
[6,"Przesyłki półpaletowe\no wymiarach 80 x 60 x 10","-",3,null,{"$f":"D14*E14","v":{"v":0,"d":"0.00"}}]
["Cena oferty (brutto):",{"$nulls":4},{"$f":"SUM(F9:F14)","v":{"v":0,"d":"0.00"}}]

{"sheet":"Część 3","index":3,"n_rows":13,"n_cols":6,"rows_kept":13,"merged":[[0,4,0,5],[2,0,2,5],[3,0,3,5],[4,0,4,5],[6,0,7,0],[6,1,7,1],[6,2,7,2],[6,3,7,3],[6,4,7,4],[6,5,7,5],[12,0,12,4]]}
[null,"AGZ.272.12.2024",null,null,"Załącznik 1A do SWZ"]
[]
["KALKULACJA CENY OFERTY"]
["Część 3"]
["Świadczenie usług kurierskich w suchym lodzie"]
[{"$f":"HYPERLINK(\"#'Suma'!A1\",\"wstecz\")","v":"wstecz"}]
["Lp.","Rodzaj przesyłki","Waga przesyłki","Prognozowana ilość przesyłek w trakcie realizacji umowy (szt.)","Cena jednostkowa brutto (zł)","Wartość brutto (zł) - iloczyn ceny jednostkowej brutto \ni ilości przesyłek"]
[]
[1,"Przesyłki nadawane w standardzie","od 0,5 kg do 30 kg",24,null,{"$f":"D9*E9","v":{"v":0,"d":"0.00"}}]
[2,"Przesyłki nadawane Expres \ndo godz. 10:00 następnego dnia","od 1 kg do 30 kg ",2,null,{"$f":"D10*E10","v":{"v":0,"d":"0.00"}}]
[3,"Przesyłki nadawane Expres \ndo godz. 12:00 następnego dnia","od 1 kg do 30 kg ",2,null,{"v":0,"d":"0.00"}]
[4,"Przesyłki nadawane Expres \ndo godz. 15:00 następnego dnia","od 1 kg do 30 kg ",2,null,{"$f":"D12*E12","v":{"v":0,"d":"0.00"}}]
["Cena oferty (brutto):",{"$nulls":4},{"$f":"SUM(F9:F12)","v":{"v":0,"d":"0.00"}}]

{"sheet":"Arkusz1","index":4,"n_rows":0,"n_cols":0,"rows_kept":0,"hidden":true}